Workbook

Sheet Summary
A11: Hey The White Tee Way Readers!
A13: We thank you for downloading this spreadsheet in hopes you are able to track your spending and get your financial life in order
A14: Click on over to the tab on the bottom the says 2021 and get started on tracking for the new year!
A16: For any questions or support, please email thewhiteteeway@gmail.com

Sheet 2021
B1: Start Total | C1: 6652.21
C3: Expenses | D3: Income | E3: Savings | G3: Work | H3: Other | I3: Eating Out | J3: Shopping | K3: Fitness | L3: Travel | M3: Other
B4: 2021 Total | C4: =SUM(C21:C4995) -> 0 | D4: =SUM(D21:D4995) -> 0 | E4: =D4+C4 -> 0 | G4: =SUM(G22:G5000) -> 0 | H4: =SUM(H22:H5000) -> 0 | I4: =SUM(I22:I5000) -> 0 | J4: =SUM(J22:J5000) -> 0 | K4: =SUM(K22:K5000) -> 0 | L4: =SUM(L22:L5000) -> 0 | M4: =SUM(M22:M5000) -> 0
B6: Monthly Average | C6: =AVERAGE(C8:C19) -> 0 | D6: =AVERAGE(D8:D19) -> 0 | E6: =D6+C6 -> 0 | G6: =AVERAGE(G8:G19) -> 0 | H6: =AVERAGE(H8:H19) -> 0 | I6: =AVERAGE(I8:I19) -> 0 | J6: =AVERAGE(J8:J19) -> 0 | K6: =AVERAGE(K8:K19) -> 0 | L6: =AVERAGE(L8:L19) -> 0 | M6: =AVERAGE(M8:M19) -> 0
B8: January Total | C8: =SUMIFS(C$22:C$5000,A$22:A$5000,">=1/1/2021",A$22:A$5000,"<=1/31/2021") -> 0 | D8: =SUMIFS(D$22:D$5000,A$22:A$5000,">=1/1/2021",A$22:A$5000,"<=1/31/2021") -> 0 | E8: =D8+C8 -> 0 | G8: =SUMIFS(G$22:G$5000,$A$22:$A$5000,">=1/1/2021",$A$22:$A$5000,"<=1/31/2021") -> 0 | H8: =SUMIFS(H$22:H$5000,$A$22:$A$5000,">=1/1/2021",$A$22:$A$5000,"<=1/31/2021") -> 0 | I8: =SUMIFS(I$22:I$5000,$A$22:$A$5000,">=1/1/2021",$A$22:$A$5000,"<=1/31/2021") -> 0 | J8: =SUMIFS(J$22:J$5000,$A$22:$A$5000,">=1/1/2021",$A$22:$A$5000,"<=1/31/2021") -> 0 | K8: =SUMIFS(K$22:K$5000,$A$22:$A$5000,">=1/1/2021",$A$22:$A$5000,"<=1/31/2021") -> 0 | L8: =SUMIFS(L$22:L$5000,$A$22:$A$5000,">=1/1/2021",$A$22:$A$5000,"<=1/31/2021") -> 0 | M8: =SUMIFS(M$22:M$5000,$A$22:$A$5000,">=1/1/2021",$A$22:$A$5000,"<=1/31/2021") -> 0
B9: February Total | C9: =SUMIFS(C$22:C$5000,$A$22:$A$5000,">=2/1/2021",$A$22:$A$5000,"<=2/28/2021") -> 0 | D9: =SUMIFS(D$22:D$5000,$A$22:$A$5000,">=2/1/2021",$A$22:$A$5000,"<=2/28/2021") -> 0 | E9: =D9+C9 -> 0 | G9: =SUMIFS(G$22:G$5000,$A$22:$A$5000,">=2/1/2021",$A$22:$A$5000,"<=2/28/2021") -> 0 | H9: =SUMIFS(H$22:H$5000,$A$22:$A$5000,">=2/1/2021",$A$22:$A$5000,"<=2/28/2021") -> 0 | I9: =SUMIFS(I$22:I$5000,$A$22:$A$5000,">=2/1/2021",$A$22:$A$5000,"<=2/28/2021") -> 0 | J9: =SUMIFS(J$22:J$5000,$A$22:$A$5000,">=2/1/2021",$A$22:$A$5000,"<=2/28/2021") -> 0 | K9: =SUMIFS(K$22:K$5000,$A$22:$A$5000,">=2/1/2021",$A$22:$A$5000,"<=2/28/2021") -> 0 | L9: =SUMIFS(L$22:L$5000,$A$22:$A$5000,">=2/1/2021",$A$22:$A$5000,"<=2/28/2021") -> 0 | M9: =SUMIFS(M$22:M$5000,$A$22:$A$5000,">=2/1/2021",$A$22:$A$5000,"<=2/28/2021") -> 0
B10: March Total | C10: =SUMIFS(C$22:C$5000,$A$22:$A$5000,">=3/1/2021",$A$22:$A$5000,"<=3/31/2021") -> 0 | D10: =SUMIFS(D$22:D$5000,$A$22:$A$5000,">=3/1/2021",$A$22:$A$5000,"<=3/31/2021") -> 0 | E10: =D10+C10 -> 0 | G10: =SUMIFS(G$22:G$5000,$A$22:$A$5000,">=3/1/2021",$A$22:$A$5000,"<=3/31/2021") -> 0 | H10: =SUMIFS(H$22:H$5000,$A$22:$A$5000,">=3/1/2021",$A$22:$A$5000,"<=3/31/2021") -> 0 | I10: =SUMIFS(I$22:I$5000,$A$22:$A$5000,">=3/1/2021",$A$22:$A$5000,"<=3/31/2021") -> 0 | J10: =SUMIFS(J$22:J$5000,$A$22:$A$5000,">=3/1/2021",$A$22:$A$5000,"<=3/31/2021") -> 0 | K10: =SUMIFS(K$22:K$5000,$A$22:$A$5000,">=3/1/2021",$A$22:$A$5000,"<=3/31/2021") -> 0 | L10: =SUMIFS(L$22:L$5000,$A$22:$A$5000,">=3/1/2021",$A$22:$A$5000,"<=3/31/2021") -> 0 | M10: =SUMIFS(M$22:M$5000,$A$22:$A$5000,">=3/1/2021",$A$22:$A$5000,"<=3/31/2021") -> 0
B11: April Total | C11: =SUMIFS(C$22:C$5000,$A$22:A$5000,">=4/1/2021",$A$22:$A$5000,"<=4/30/2021") -> 0 | D11: =SUMIFS(D$22:D$5000,$A$22:$A$5000,">=4/1/2021",$A$22:$A$5000,"<=4/30/2021") -> 0 | E11: =D11+C11 -> 0 | G11: =SUMIFS(G$22:G$5000,$A$22:$A$5000,">=4/1/2021",$A$22:$A$5000,"<=4/30/2021") -> 0 | H11: =SUMIFS(H$22:H$5000,$A$22:$A$5000,">=4/1/2021",$A$22:$A$5000,"<=4/30/2021") -> 0 | I11: =SUMIFS(I$22:I$5000,$A$22:$A$5000,">=4/1/2021",$A$22:$A$5000,"<=4/30/2021") -> 0 | J11: =SUMIFS(J$22:J$5000,$A$22:$A$5000,">=4/1/2021",$A$22:$A$5000,"<=4/30/2021") -> 0 | K11: =SUMIFS(K$22:K$5000,$A$22:$A$5000,">=4/1/2021",$A$22:$A$5000,"<=4/30/2021") -> 0 | L11: =SUMIFS(L$22:L$5000,$A$22:$A$5000,">=4/1/2021",$A$22:$A$5000,"<=4/30/2021") -> 0 | M11: =SUMIFS(M$22:M$5000,$A$22:$A$5000,">=4/1/2021",$A$22:$A$5000,"<=4/30/2021") -> 0
B12: May Total | C12: =SUMIFS(C$22:C$5000,$A$22:$A$5000,">=5/1/2021",$A$22:$A$5000,"<=5/31/2021") -> 0 | D12: =SUMIFS(D$22:D$5000,$A$22:$A$5000,">=5/1/2021",$A$22:$A$5000,"<=5/31/2021") -> 0 | E12: =D12+C12 -> 0 | G12: =SUMIFS(G$22:G$5000,$A$22:$A$5000,">=5/1/2021",$A$22:$A$5000,"<=5/31/2021") -> 0 | H12: =SUMIFS(H$22:H$5000,$A$22:$A$5000,">=5/1/2021",$A$22:$A$5000,"<=5/31/2021") -> 0 | I12: =SUMIFS(I$22:I$5000,$A$22:$A$5000,">=5/1/2021",$A$22:$A$5000,"<=5/31/2021") -> 0 | J12: =SUMIFS(J$22:J$5000,$A$22:$A$5000,">=5/1/2021",$A$22:$A$5000,"<=5/31/2021") -> 0 | K12: =SUMIFS(K$22:K$5000,$A$22:$A$5000,">=5/1/2021",$A$22:$A$5000,"<=5/31/2021") -> 0 | L12: =SUMIFS(L$22:L$5000,$A$22:$A$5000,">=5/1/2021",$A$22:$A$5000,"<=5/31/2021") -> 0 | M12: =SUMIFS(M$22:M$5000,$A$22:$A$5000,">=5/1/2021",$A$22:$A$5000,"<=5/31/2021") -> 0
B13: June Total | C13: =SUMIFS(C$22:C$5000,$A$22:$A$5000,">=6/1/2021",$A$22:$A$5000,"<=6/30/2021") -> 0 | D13: =SUMIFS(D$22:D$5000,$A$22:$A$5000,">=6/1/2021",$A$22:$A$5000,"<=6/30/2021") -> 0 | E13: =D13+C13 -> 0 | G13: =SUMIFS(G$22:G$5000,$A$22:$A$5000,">=6/1/2021",$A$22:$A$5000,"<=6/30/2021") -> 0 | H13: =SUMIFS(H$22:H$5000,$A$22:$A$5000,">=6/1/2021",$A$22:$A$5000,"<=6/30/2021") -> 0 | I13: =SUMIFS(I$22:I$5000,$A$22:$A$5000,">=6/1/2021",$A$22:$A$5000,"<=6/30/2021") -> 0 | J13: =SUMIFS(J$22:J$5000,$A$22:$A$5000,">=6/1/2021",$A$22:$A$5000,"<=6/30/2021") -> 0 | K13: =SUMIFS(K$22:K$5000,$A$22:$A$5000,">=6/1/2021",$A$22:$A$5000,"<=6/30/2021") -> 0 | L13: =SUMIFS(L$22:L$5000,$A$22:$A$5000,">=6/1/2021",$A$22:$A$5000,"<=6/30/2021") -> 0 | M13: =SUMIFS(M$22:M$5000,$A$22:$A$5000,">=6/1/2021",$A$22:$A$5000,"<=6/30/2021") -> 0
B14: July Total | C14: =SUMIFS(C$22:C$5000,$A$22:$A$5000,">=7/1/2021",$A$22:$A$5000,"<=7/31/2021") -> 0 | D14: =SUMIFS(D$22:D$5000,$A$22:$A$5000,">=7/1/2021",$A$22:$A$5000,"<=7/31/2021") -> 0 | E14: =D14+C14 -> 0 | G14: =SUMIFS(G$22:G$5000,$A$22:$A$5000,">=7/1/2021",$A$22:$A$5000,"<=7/31/2021") -> 0 | H14: =SUMIFS(H$22:H$5000,$A$22:$A$5000,">=7/1/2021",$A$22:$A$5000,"<=7/31/2021") -> 0 | I14: =SUMIFS(I$22:I$5000,$A$22:$A$5000,">=7/1/2021",$A$22:$A$5000,"<=7/31/2021") -> 0 | J14: =SUMIFS(J$22:J$5000,$A$22:$A$5000,">=7/1/2021",$A$22:$A$5000,"<=7/31/2021") -> 0 | K14: =SUMIFS(K$22:K$5000,$A$22:$A$5000,">=7/1/2021",$A$22:$A$5000,"<=7/31/2021") -> 0 | L14: =SUMIFS(L$22:L$5000,$A$22:$A$5000,">=7/1/2021",$A$22:$A$5000,"<=7/31/2021") -> 0 | M14: =SUMIFS(M$22:M$5000,$A$22:$A$5000,">=7/1/2021",$A$22:$A$5000,"<=7/31/2021") -> 0
B15: August Total | C15: =SUMIFS(C$22:C$5000,$A$22:$A$5000,">=8/1/2021",$A$22:$A$5000,"<=8/31/2021") -> 0 | D15: =SUMIFS(D$22:D$5000,$A$22:$A$5000,">=8/1/2021",$A$22:$A$5000,"<=8/31/2021") -> 0 | E15: =D15+C15 -> 0 | G15: =SUMIFS(G$22:G$5000,$A$22:$A$5000,">=8/1/2021",$A$22:$A$5000,"<=8/31/2021") -> 0 | H15: =SUMIFS(H$22:H$5000,$A$22:$A$5000,">=8/1/2021",$A$22:$A$5000,"<=8/31/2021") -> 0 | I15: =SUMIFS(I$22:I$5000,$A$22:$A$5000,">=8/1/2021",$A$22:$A$5000,"<=8/31/2021") -> 0 | J15: =SUMIFS(J$22:J$5000,$A$22:$A$5000,">=8/1/2021",$A$22:$A$5000,"<=8/31/2021") -> 0 | K15: =SUMIFS(K$22:K$5000,$A$22:$A$5000,">=8/1/2021",$A$22:$A$5000,"<=8/31/2021") -> 0 | L15: =SUMIFS(L$22:L$5000,$A$22:$A$5000,">=8/1/2021",$A$22:$A$5000,"<=8/31/2021") -> 0 | M15: =SUMIFS(M$22:M$5000,$A$22:$A$5000,">=8/1/2021",$A$22:$A$5000,"<=8/31/2021") -> 0
B16: September Total | C16: =SUMIFS(C$22:C$5000,$A$22:$A$5000,">=9/1/2021",$A$22:$A$5000,"<=9/30/2021") -> 0 | D16: =SUMIFS(D$22:D$5000,$A$22:$A$5000,">=9/1/2021",$A$22:$A$5000,"<=9/30/2021") -> 0 | E16: =D16+C16 -> 0 | G16: =SUMIFS(G$22:G$5000,$A$22:$A$5000,">=9/1/2021",$A$22:$A$5000,"<=9/30/2021") -> 0 | H16: =SUMIFS(H$22:H$5000,$A$22:$A$5000,">=9/1/2021",$A$22:$A$5000,"<=9/30/2021") -> 0 | I16: =SUMIFS(I$22:I$5000,$A$22:$A$5000,">=9/1/2021",$A$22:$A$5000,"<=9/30/2021") -> 0 | J16: =SUMIFS(J$22:J$5000,$A$22:$A$5000,">=9/1/2021",$A$22:$A$5000,"<=9/30/2021") -> 0 | K16: =SUMIFS(K$22:K$5000,$A$22:$A$5000,">=9/1/2021",$A$22:$A$5000,"<=9/30/2021") -> 0 | L16: =SUMIFS(L$22:L$5000,$A$22:$A$5000,">=9/1/2021",$A$22:$A$5000,"<=9/30/2021") -> 0 | M16: =SUMIFS(M$22:M$5000,$A$22:$A$5000,">=9/1/2021",$A$22:$A$5000,"<=9/30/2021") -> 0
B17: October Total | C17: =SUMIFS(C$22:C$5000,$A$22:$A$5000,">=10/1/2021",$A$22:$A$5000,"<=10/31/2021") -> 0 | D17: =SUMIFS(D$22:D$5000,$A$22:$A$5000,">=10/1/2021",$A$22:$A$5000,"<=10/31/2021") -> 0 | E17: =D17+C17 -> 0 | G17: =SUMIFS(G$22:G$5000,$A$22:$A$5000,">=10/1/2021",$A$22:$A$5000,"<=10/31/2021") -> 0 | H17: =SUMIFS(H$22:H$5000,$A$22:$A$5000,">=10/1/2021",$A$22:$A$5000,"<=10/31/2021") -> 0 | I17: =SUMIFS(I$22:I$5000,$A$22:$A$5000,">=10/1/2021",$A$22:$A$5000,"<=10/31/2021") -> 0 | J17: =SUMIFS(J$22:J$5000,$A$22:$A$5000,">=10/1/2021",$A$22:$A$5000,"<=10/31/2021") -> 0 | K17: =SUMIFS(K$22:K$5000,$A$22:$A$5000,">=10/1/2021",$A$22:$A$5000,"<=10/31/2021") -> 0 | L17: =SUMIFS(L$22:L$5000,$A$22:$A$5000,">=10/1/2021",$A$22:$A$5000,"<=10/31/2021") -> 0 | M17: =SUMIFS(M$22:M$5000,$A$22:$A$5000,">=10/1/2021",$A$22:$A$5000,"<=10/31/2021") -> 0
B18: November Total | C18: =SUMIFS(C$22:C$5000,$A$22:$A$5000,">=11/1/2021",$A$22:$A$5000,"<=11/30/2021") -> 0 | D18: =SUMIFS(D$22:D$5000,$A$22:$A$5000,">=11/1/2021",$A$22:$A$5000,"<=11/30/2021") -> 0 | E18: =D18+C18 -> 0 | G18: =SUMIFS(G$22:G$5000,$A$22:$A$5000,">=11/1/2021",$A$22:$A$5000,"<=11/30/2021") -> 0 | H18: =SUMIFS(H$22:H$5000,$A$22:$A$5000,">=11/1/2021",$A$22:$A$5000,"<=11/30/2021") -> 0 | I18: =SUMIFS(I$22:I$5000,$A$22:$A$5000,">=11/1/2021",$A$22:$A$5000,"<=11/30/2021") -> 0 | J18: =SUMIFS(J$22:J$5000,$A$22:$A$5000,">=11/1/2021",$A$22:$A$5000,"<=11/30/2021") -> 0 | K18: =SUMIFS(K$22:K$5000,$A$22:$A$5000,">=11/1/2021",$A$22:$A$5000,"<=11/30/2021") -> 0 | L18: =SUMIFS(L$22:L$5000,$A$22:$A$5000,">=11/1/2021",$A$22:$A$5000,"<=11/30/2021") -> 0 | M18: =SUMIFS(M$22:M$5000,$A$22:$A$5000,">=11/1/2021",$A$22:$A$5000,"<=11/30/2021") -> 0
B19: December Total | C19: =SUMIFS(C$22:C$5000,$A$22:$A$5000,">=12/1/2021",$A$22:$A$5000,"<=12/31/2021") -> 0 | D19: =SUMIFS(D$22:D$5000,$A$22:$A$5000,">=12/1/2021",$A$22:$A$5000,"<=12/31/2021") -> 0 | E19: =D19+C19 -> 0 | G19: =SUMIFS(G$22:G$5000,$A$22:$A$5000,">=12/1/2021",$A$22:$A$5000,"<=12/31/2021") -> 0 | H19: =SUMIFS(H$22:H$5000,$A$22:$A$5000,">=12/1/2021",$A$22:$A$5000,"<=12/31/2021") -> 0 | I19: =SUMIFS(I$22:I$5000,$A$22:$A$5000,">=12/1/2021",$A$22:$A$5000,"<=12/31/2021") -> 0 | J19: =SUMIFS(J$22:J$5000,$A$22:$A$5000,">=12/1/2021",$A$22:$A$5000,"<=12/31/2021") -> 0 | K19: =SUMIFS(K$22:K$5000,$A$22:$A$5000,">=12/1/2021",$A$22:$A$5000,"<=12/31/2021") -> 0 | L19: =SUMIFS(L$22:L$5000,$A$22:$A$5000,">=12/1/2021",$A$22:$A$5000,"<=12/31/2021") -> 0 | M19: =SUMIFS(M$22:M$5000,$A$22:$A$5000,">=12/1/2021",$A$22:$A$5000,"<=12/31/2021") -> 0
A21: Date | B21: Description | C21: Expenses | D21: Income

Sheet Totals Summary
A1: Month | B1: Amount
A2: January Total | B2: ='2021'!E8 -> 0
A3: February Total | B3: ='2021'!E9 -> 0
A4: March Total | B4: ='2021'!E10 -> 0
A5: April Total | B5: ='2021'!E11 -> 0
A6: May Total | B6: ='2021'!E12 -> 0
A7: June Total | B7: ='2021'!E13 -> 0
A8: July Total | B8: ='2021'!E14 -> 0
A9: August Total | B9: ='2021'!E15 -> 0
A10: September Total | B10: ='2021'!E16 -> 0
A11: October Total | B11: ='2021'!E17 -> 0
A12: November Total | B12: ='2021'!E18 -> 0
A13: December Total | B13: ='2021'!E19 -> 0
A15: Yearly Total | B15: =SUM(B2:B13) -> 0
